BEGIN:VCALENDAR
VERSION:2.0
PRODID:-//FC Viktoria Poppenroth e.V. - ECPv6.15.17.1//NONSGML v1.0//EN
CALSCALE:GREGORIAN
METHOD:PUBLISH
X-ORIGINAL-URL:https://fc-poppenroth.de
X-WR-CALDESC:Veranstaltungen für FC Viktoria Poppenroth e.V.
REFRESH-INTERVAL;VALUE=DURATION:PT1H
X-Robots-Tag:noindex
X-PUBLISHED-TTL:PT1H
BEGIN:VTIMEZONE
TZID:Europe/Berlin
BEGIN:DAYLIGHT
TZOFFSETFROM:+0100
TZOFFSETTO:+0200
TZNAME:CEST
DTSTART:20220327T010000
END:DAYLIGHT
BEGIN:STANDARD
TZOFFSETFROM:+0200
TZOFFSETTO:+0100
TZNAME:CET
DTSTART:20221030T010000
END:STANDARD
BEGIN:DAYLIGHT
TZOFFSETFROM:+0100
TZOFFSETTO:+0200
TZNAME:CEST
DTSTART:20230326T010000
END:DAYLIGHT
BEGIN:STANDARD
TZOFFSETFROM:+0200
TZOFFSETTO:+0100
TZNAME:CET
DTSTART:20231029T010000
END:STANDARD
BEGIN:DAYLIGHT
TZOFFSETFROM:+0100
TZOFFSETTO:+0200
TZNAME:CEST
DTSTART:20240331T010000
END:DAYLIGHT
BEGIN:STANDARD
TZOFFSETFROM:+0200
TZOFFSETTO:+0100
TZNAME:CET
DTSTART:20241027T010000
END:STANDARD
END:VTIMEZONE
BEGIN:VEVENT
DTSTART;TZID=Europe/Berlin:20231125T150000
DTEND;TZID=Europe/Berlin:20231125T220000
DTSTAMP:20260422T111922
CREATED:20231121T093455Z
LAST-MODIFIED:20231121T093455Z
UID:1815-1700924400-1700949600@fc-poppenroth.de
SUMMARY:Poppenrother Weihnachtswald 2023
DESCRIPTION:Auch in diesem Jahr veranstalten die Ortsvereine in Poppenroth einen Weihnachtswald. \nBeginn ist am Samstag um 15:00Uhr am Sportplatz (Kiosk).
URL:https://fc-poppenroth.de/termine/poppenrother-weihnachtswald-2023/
LOCATION:Sportheim FC Viktoria Poppenroth
END:VEVENT
END:VCALENDAR